BEGIN:VCALENDAR
VERSION:2.0
PRODID:-//CCCWN - ECPv6.15.20//NONSGML v1.0//EN
CALSCALE:GREGORIAN
METHOD:PUBLISH
X-ORIGINAL-URL:https://cccwn.org
X-WR-CALDESC:Events for CCCWN
REFRESH-INTERVAL;VALUE=DURATION:PT1H
X-Robots-Tag:noindex
X-PUBLISHED-TTL:PT1H
BEGIN:VTIMEZONE
TZID:America/Los_Angeles
BEGIN:DAYLIGHT
TZOFFSETFROM:-0800
TZOFFSETTO:-0700
TZNAME:PDT
DTSTART:20230312T100000
END:DAYLIGHT
BEGIN:STANDARD
TZOFFSETFROM:-0700
TZOFFSETTO:-0800
TZNAME:PST
DTSTART:20231105T090000
END:STANDARD
BEGIN:DAYLIGHT
TZOFFSETFROM:-0800
TZOFFSETTO:-0700
TZNAME:PDT
DTSTART:20240310T100000
END:DAYLIGHT
BEGIN:STANDARD
TZOFFSETFROM:-0700
TZOFFSETTO:-0800
TZNAME:PST
DTSTART:20241103T090000
END:STANDARD
BEGIN:DAYLIGHT
TZOFFSETFROM:-0800
TZOFFSETTO:-0700
TZNAME:PDT
DTSTART:20250309T100000
END:DAYLIGHT
BEGIN:STANDARD
TZOFFSETFROM:-0700
TZOFFSETTO:-0800
TZNAME:PST
DTSTART:20251102T090000
END:STANDARD
END:VTIMEZONE
BEGIN:VEVENT
DTSTART;TZID=America/Los_Angeles:20241209T103000
DTEND;TZID=America/Los_Angeles:20241209T120000
DTSTAMP:20260425T041952
CREATED:20240222T050655Z
LAST-MODIFIED:20240224T042327Z
UID:7008-1733740200-1733745600@cccwn.org
SUMMARY:MHSUD RC Meeting
DESCRIPTION:
URL:https://cccwn.org/event/mhsud-rc-meeting-12/
CATEGORIES:MH SUD Regional Coalition
ATTACH;FMTTYPE=image/jpeg:https://cccwn.org/wp-content/uploads/2024/02/mhsudc-meeting-image.jpg
END:VEVENT
BEGIN:VEVENT
DTSTART;TZID=America/Los_Angeles:20241111T103000
DTEND;TZID=America/Los_Angeles:20241111T120000
DTSTAMP:20260425T041952
CREATED:20240222T050609Z
LAST-MODIFIED:20240224T042350Z
UID:7005-1731321000-1731326400@cccwn.org
SUMMARY:MHSUD RC Meeting
DESCRIPTION:
URL:https://cccwn.org/event/mhsud-rc-meeting-11/
CATEGORIES:MH SUD Regional Coalition
ATTACH;FMTTYPE=image/jpeg:https://cccwn.org/wp-content/uploads/2024/02/mhsudc-meeting-image.jpg
END:VEVENT
BEGIN:VEVENT
DTSTART;TZID=America/Los_Angeles:20241014T103000
DTEND;TZID=America/Los_Angeles:20241014T120000
DTSTAMP:20260425T041952
CREATED:20240222T050507Z
LAST-MODIFIED:20240224T042413Z
UID:7002-1728901800-1728907200@cccwn.org
SUMMARY:MHSUD RC Meeting
DESCRIPTION:
URL:https://cccwn.org/event/mhsud-rc-meeting-10/
CATEGORIES:MH SUD Regional Coalition
ATTACH;FMTTYPE=image/jpeg:https://cccwn.org/wp-content/uploads/2024/02/mhsudc-meeting-image.jpg
END:VEVENT
BEGIN:VEVENT
DTSTART;TZID=America/Los_Angeles:20240909T103000
DTEND;TZID=America/Los_Angeles:20240909T120000
DTSTAMP:20260425T041952
CREATED:20240222T050407Z
LAST-MODIFIED:20240224T042509Z
UID:6999-1725877800-1725883200@cccwn.org
SUMMARY:MHSUD RC Meeting
DESCRIPTION:
URL:https://cccwn.org/event/mhsud-rc-meeting-9/
CATEGORIES:MH SUD Regional Coalition
ATTACH;FMTTYPE=image/jpeg:https://cccwn.org/wp-content/uploads/2024/02/mhsudc-meeting-image.jpg
END:VEVENT
BEGIN:VEVENT
DTSTART;TZID=America/Los_Angeles:20240812T103000
DTEND;TZID=America/Los_Angeles:20240812T120000
DTSTAMP:20260425T041952
CREATED:20240222T050305Z
LAST-MODIFIED:20240224T042519Z
UID:6996-1723458600-1723464000@cccwn.org
SUMMARY:MHSUD RC Meeting
DESCRIPTION:
URL:https://cccwn.org/event/mhsud-rc-meeting-8/
CATEGORIES:MH SUD Regional Coalition
ATTACH;FMTTYPE=image/jpeg:https://cccwn.org/wp-content/uploads/2024/02/mhsudc-meeting-image.jpg
END:VEVENT
BEGIN:VEVENT
DTSTART;TZID=America/Los_Angeles:20240708T103000
DTEND;TZID=America/Los_Angeles:20240708T120000
DTSTAMP:20260425T041952
CREATED:20240222T050217Z
LAST-MODIFIED:20240224T042532Z
UID:6994-1720434600-1720440000@cccwn.org
SUMMARY:MHSUD RC Meeting
DESCRIPTION:
URL:https://cccwn.org/event/mhsud-rc-meeting-7/
CATEGORIES:MH SUD Regional Coalition
ATTACH;FMTTYPE=image/jpeg:https://cccwn.org/wp-content/uploads/2024/02/mhsudc-meeting-image.jpg
END:VEVENT
BEGIN:VEVENT
DTSTART;TZID=America/Los_Angeles:20240610T103000
DTEND;TZID=America/Los_Angeles:20240610T120000
DTSTAMP:20260425T041952
CREATED:20240222T050035Z
LAST-MODIFIED:20240224T042546Z
UID:6992-1718015400-1718020800@cccwn.org
SUMMARY:MHSUD RC Meeting
DESCRIPTION:
URL:https://cccwn.org/event/mhsud-rc-meeting-6/
CATEGORIES:MH SUD Regional Coalition
ATTACH;FMTTYPE=image/jpeg:https://cccwn.org/wp-content/uploads/2024/02/mhsudc-meeting-image.jpg
END:VEVENT
BEGIN:VEVENT
DTSTART;TZID=America/Los_Angeles:20240513T103000
DTEND;TZID=America/Los_Angeles:20240513T120000
DTSTAMP:20260425T041952
CREATED:20240222T045919Z
LAST-MODIFIED:20240501T225920Z
UID:6990-1715596200-1715601600@cccwn.org
SUMMARY:MHSUD RC Meeting
DESCRIPTION:Mental Health/Substance Use Disorder Regional Coalition Meeting
URL:https://cccwn.org/event/mhsud-rc-meeting-5/
CATEGORIES:MH SUD Regional Coalition
ATTACH;FMTTYPE=image/jpeg:https://cccwn.org/wp-content/uploads/2024/02/mhsudc-meeting-image.jpg
END:VEVENT
BEGIN:VEVENT
DTSTART;TZID=America/Los_Angeles:20240408T103000
DTEND;TZID=America/Los_Angeles:20240408T120000
DTSTAMP:20260425T041952
CREATED:20240222T045811Z
LAST-MODIFIED:20240224T042604Z
UID:6988-1712572200-1712577600@cccwn.org
SUMMARY:MHSUD RC Meeting
DESCRIPTION:
URL:https://cccwn.org/event/mhsud-rc-meeting-4/
CATEGORIES:MH SUD Regional Coalition
ATTACH;FMTTYPE=image/jpeg:https://cccwn.org/wp-content/uploads/2024/02/mhsudc-meeting-image.jpg
END:VEVENT
BEGIN:VEVENT
DTSTART;TZID=America/Los_Angeles:20240311T103000
DTEND;TZID=America/Los_Angeles:20240311T120000
DTSTAMP:20260425T041952
CREATED:20240222T045554Z
LAST-MODIFIED:20240224T042247Z
UID:6986-1710153000-1710158400@cccwn.org
SUMMARY:MHSUD RC Meeting
DESCRIPTION:
URL:https://cccwn.org/event/mhsud-rc-meeting/
CATEGORIES:MH SUD Regional Coalition
ATTACH;FMTTYPE=image/jpeg:https://cccwn.org/wp-content/uploads/2024/02/mhsudc-meeting-image.jpg
END:VEVENT
END:VCALENDAR