BEGIN:VCALENDAR
VERSION:2.0
PRODID:-//CCCWN - ECPv6.15.20//NONSGML v1.0//EN
CALSCALE:GREGORIAN
METHOD:PUBLISH
X-WR-CALNAME:CCCWN
X-ORIGINAL-URL:https://cccwn.org
X-WR-CALDESC:Events for CCCWN
REFRESH-INTERVAL;VALUE=DURATION:PT1H
X-Robots-Tag:noindex
X-PUBLISHED-TTL:PT1H
BEGIN:VTIMEZONE
TZID:America/Los_Angeles
BEGIN:DAYLIGHT
TZOFFSETFROM:-0800
TZOFFSETTO:-0700
TZNAME:PDT
DTSTART:20230312T100000
END:DAYLIGHT
BEGIN:STANDARD
TZOFFSETFROM:-0700
TZOFFSETTO:-0800
TZNAME:PST
DTSTART:20231105T090000
END:STANDARD
BEGIN:DAYLIGHT
TZOFFSETFROM:-0800
TZOFFSETTO:-0700
TZNAME:PDT
DTSTART:20240310T100000
END:DAYLIGHT
BEGIN:STANDARD
TZOFFSETFROM:-0700
TZOFFSETTO:-0800
TZNAME:PST
DTSTART:20241103T090000
END:STANDARD
BEGIN:DAYLIGHT
TZOFFSETFROM:-0800
TZOFFSETTO:-0700
TZNAME:PDT
DTSTART:20250309T100000
END:DAYLIGHT
BEGIN:STANDARD
TZOFFSETFROM:-0700
TZOFFSETTO:-0800
TZNAME:PST
DTSTART:20251102T090000
END:STANDARD
END:VTIMEZONE
BEGIN:VEVENT
DTSTART;TZID=America/Los_Angeles:20240910T130000
DTEND;TZID=America/Los_Angeles:20240910T143000
DTSTAMP:20260424T083421
CREATED:20240223T044137Z
LAST-MODIFIED:20240223T045123Z
UID:7141-1725973200-1725978600@cccwn.org
SUMMARY:PFHC Meeting
DESCRIPTION:
URL:https://cccwn.org/event/pfhc-meeting-9/
CATEGORIES:PFH Coalition
ATTACH;FMTTYPE=image/jpeg:https://cccwn.org/wp-content/uploads/2024/02/PFH-coalition-meeting-image-jpg.webp
END:VEVENT
END:VCALENDAR