BEGIN:VCALENDAR
VERSION:2.0
PRODID:-//CCCWN - ECPv6.15.20//NONSGML v1.0//EN
CALSCALE:GREGORIAN
METHOD:PUBLISH
X-WR-CALNAME:CCCWN
X-ORIGINAL-URL:https://cccwn.org
X-WR-CALDESC:Events for CCCWN
REFRESH-INTERVAL;VALUE=DURATION:PT1H
X-Robots-Tag:noindex
X-PUBLISHED-TTL:PT1H
BEGIN:VTIMEZONE
TZID:America/Los_Angeles
BEGIN:DAYLIGHT
TZOFFSETFROM:-0800
TZOFFSETTO:-0700
TZNAME:PDT
DTSTART:20250309T100000
END:DAYLIGHT
BEGIN:STANDARD
TZOFFSETFROM:-0700
TZOFFSETTO:-0800
TZNAME:PST
DTSTART:20251102T090000
END:STANDARD
BEGIN:DAYLIGHT
TZOFFSETFROM:-0800
TZOFFSETTO:-0700
TZNAME:PDT
DTSTART:20260308T100000
END:DAYLIGHT
BEGIN:STANDARD
TZOFFSETFROM:-0700
TZOFFSETTO:-0800
TZNAME:PST
DTSTART:20261101T090000
END:STANDARD
BEGIN:DAYLIGHT
TZOFFSETFROM:-0800
TZOFFSETTO:-0700
TZNAME:PDT
DTSTART:20270314T100000
END:DAYLIGHT
BEGIN:STANDARD
TZOFFSETFROM:-0700
TZOFFSETTO:-0800
TZNAME:PST
DTSTART:20271107T090000
END:STANDARD
END:VTIMEZONE
BEGIN:VEVENT
DTSTART;TZID=America/Los_Angeles:20260521T180000
DTEND;TZID=America/Los_Angeles:20260521T200000
DTSTAMP:20260423T102856
CREATED:20260220T002104Z
LAST-MODIFIED:20260220T004623Z
UID:9821-1779386400-1779393600@cccwn.org
SUMMARY:How Parents can Protect their Children from Online Groomers & Predators
DESCRIPTION:No registration required. All are welcomed. Spanish Interpretation Available. For dinner and family training at the Boys & Girls Club of the Greater Santiam. How Parents can Protect their Children from Online Groomers & Predators.
URL:https://cccwn.org/event/how-parents-can-protect-their-children-from-online-groomers-predators/
LOCATION:Boys & Girls Club of the Greater Santiam\, 305 S 5th St\, Lebanon\, OR\, 97355\, United States
CATEGORIES:Summit
ATTACH;FMTTYPE=image/jpeg:https://cccwn.org/wp-content/uploads/2026/02/VPS-summit-spc-2026.jpg
END:VEVENT
END:VCALENDAR