BEGIN:VCALENDAR
VERSION:2.0
PRODID:-//CCCWN - ECPv6.15.20//NONSGML v1.0//EN
CALSCALE:GREGORIAN
METHOD:PUBLISH
X-WR-CALNAME:CCCWN
X-ORIGINAL-URL:https://cccwn.org
X-WR-CALDESC:Events for CCCWN
REFRESH-INTERVAL;VALUE=DURATION:PT1H
X-Robots-Tag:noindex
X-PUBLISHED-TTL:PT1H
BEGIN:VTIMEZONE
TZID:America/Los_Angeles
BEGIN:DAYLIGHT
TZOFFSETFROM:-0800
TZOFFSETTO:-0700
TZNAME:PDT
DTSTART:20230312T100000
END:DAYLIGHT
BEGIN:STANDARD
TZOFFSETFROM:-0700
TZOFFSETTO:-0800
TZNAME:PST
DTSTART:20231105T090000
END:STANDARD
BEGIN:DAYLIGHT
TZOFFSETFROM:-0800
TZOFFSETTO:-0700
TZNAME:PDT
DTSTART:20240310T100000
END:DAYLIGHT
BEGIN:STANDARD
TZOFFSETFROM:-0700
TZOFFSETTO:-0800
TZNAME:PST
DTSTART:20241103T090000
END:STANDARD
BEGIN:DAYLIGHT
TZOFFSETFROM:-0800
TZOFFSETTO:-0700
TZNAME:PDT
DTSTART:20250309T100000
END:DAYLIGHT
BEGIN:STANDARD
TZOFFSETFROM:-0700
TZOFFSETTO:-0800
TZNAME:PST
DTSTART:20251102T090000
END:STANDARD
END:VTIMEZONE
BEGIN:VEVENT
DTSTART;TZID=America/Los_Angeles:20241111T103000
DTEND;TZID=America/Los_Angeles:20241111T120000
DTSTAMP:20260424T083421
CREATED:20240222T050609Z
LAST-MODIFIED:20240224T042350Z
UID:7005-1731321000-1731326400@cccwn.org
SUMMARY:MHSUD RC Meeting
DESCRIPTION:
URL:https://cccwn.org/event/mhsud-rc-meeting-11/
CATEGORIES:MH SUD Regional Coalition
ATTACH;FMTTYPE=image/jpeg:https://cccwn.org/wp-content/uploads/2024/02/mhsudc-meeting-image.jpg
END:VEVENT
BEGIN:VEVENT
DTSTART;TZID=America/Los_Angeles:20241112T130000
DTEND;TZID=America/Los_Angeles:20241112T143000
DTSTAMP:20260424T083421
CREATED:20240223T044324Z
LAST-MODIFIED:20240224T043113Z
UID:7147-1731416400-1731421800@cccwn.org
SUMMARY:PFHC Meeting
DESCRIPTION:
URL:https://cccwn.org/event/pfhc-meeting-11/
CATEGORIES:PFH Coalition
ATTACH;FMTTYPE=image/jpeg:https://cccwn.org/wp-content/uploads/2024/02/PFH-coalition-meeting-image-jpg.webp
END:VEVENT
BEGIN:VEVENT
DTSTART;TZID=America/Los_Angeles:20241119T140000
DTEND;TZID=America/Los_Angeles:20241119T153000
DTSTAMP:20260424T083421
CREATED:20240209T050402Z
LAST-MODIFIED:20240214T200754Z
UID:6688-1732024800-1732030200@cccwn.org
SUMMARY:ROHC Meeting
DESCRIPTION:
URL:https://cccwn.org/event/regional-oral-health-coalition-meeting-11/
CATEGORIES:Regional Oral Health
ATTACH;FMTTYPE=image/jpeg:https://cccwn.org/wp-content/uploads/2024/02/oral-health-coalition-meeting-image-jpg.webp
END:VEVENT
END:VCALENDAR